BEGIN:VCALENDAR
VERSION:2.0
PRODID:LFV Website-Kit
METHOD:PUBLISH
BEGIN:VEVENT
UID:lfv-951a3c93-00ac-45fa-8a93-8c7c9a40240f
LOCATION:
SUMMARY:150 Jahre FFW Ebermannstadt
DESCRIPTION:Die Feuerwehr Ebermannstadt wird 150 Jahre! Kommt und feiert mit uns zusammen in der Stadthalle Ebermannstadt unser Jubiläum.\n\nTermin Link: http://ebermannstadt.feuerwehren.bayern/verein/termine/150-jahre-ffw-ebermannstadt/
URL:http://ebermannstadt.feuerwehren.bayern/verein/termine/150-jahre-ffw-ebermannstadt/
CLASS:PRIVATE
DTSTART;TZID=Europe/Berlin:20260430T200000
DTEND;TZID=Europe/Berlin:20260503T200000
DTSTAMP:20260423T154604Z
END:VEVENT
END:VCALENDAR