BEGIN:VCALENDAR
VERSION:2.0
PRODID:LFV Website-Kit
METHOD:PUBLISH
BEGIN:VEVENT
UID:lfv-8c922a70-c85c-4de3-9c46-fece30a136fc
LOCATION:
SUMMARY:Jahresplan 2026
DESCRIPTION:Jahresplan 2026\n\nTermin Link: http://ebermannstadt.feuerwehren.bayern/verein/termine/jahresplan-2026/
URL:http://ebermannstadt.feuerwehren.bayern/verein/termine/jahresplan-2026/
CLASS:PRIVATE
DTSTART;TZID=Europe/Berlin:20260101T143100
DTEND;TZID=Europe/Berlin:20261231T143100
DTSTAMP:20260423T160002Z
END:VEVENT
END:VCALENDAR